BEGIN:VCALENDAR
VERSION:2.0
PRODID:-//Canada Zenkuren Wado Karate Association - ECPv6.15.17.1//NONSGML v1.0//EN
CALSCALE:GREGORIAN
METHOD:PUBLISH
X-ORIGINAL-URL:https://canadajkfwadokai.org
X-WR-CALDESC:Events for Canada Zenkuren Wado Karate Association
REFRESH-INTERVAL;VALUE=DURATION:PT1H
X-Robots-Tag:noindex
X-PUBLISHED-TTL:PT1H
BEGIN:VTIMEZONE
TZID:America/Toronto
BEGIN:DAYLIGHT
TZOFFSETFROM:-0500
TZOFFSETTO:-0400
TZNAME:EDT
DTSTART:20250309T070000
END:DAYLIGHT
BEGIN:STANDARD
TZOFFSETFROM:-0400
TZOFFSETTO:-0500
TZNAME:EST
DTSTART:20251102T060000
END:STANDARD
BEGIN:DAYLIGHT
TZOFFSETFROM:-0500
TZOFFSETTO:-0400
TZNAME:EDT
DTSTART:20260308T070000
END:DAYLIGHT
BEGIN:STANDARD
TZOFFSETFROM:-0400
TZOFFSETTO:-0500
TZNAME:EST
DTSTART:20261101T060000
END:STANDARD
BEGIN:DAYLIGHT
TZOFFSETFROM:-0500
TZOFFSETTO:-0400
TZNAME:EDT
DTSTART:20270314T070000
END:DAYLIGHT
BEGIN:STANDARD
TZOFFSETFROM:-0400
TZOFFSETTO:-0500
TZNAME:EST
DTSTART:20271107T060000
END:STANDARD
END:VTIMEZONE
BEGIN:VEVENT
DTSTART;VALUE=DATE:20260605
DTEND;VALUE=DATE:20260608
DTSTAMP:20260419T084948
CREATED:20250902T224000Z
LAST-MODIFIED:20251217T025039Z
UID:3311-1780617600-1780876799@canadajkfwadokai.org
SUMMARY:JKF Wadokai Masters
DESCRIPTION:Jimmy Harte in Dublin\, Ireland will be hosting Kohata Sensei and Saskai Sensei on June 5/6/7 2026. \nWhat a wonderful opportunity to train with two top tier Masters.  Mark your calendars and make plans to attend.  More details will be published as they are received! \n  \nHosted by IWKA – contact jimmy.harte@gmail.com for additional information \nUPDATE Just in we have received permission for 3rd kyu instructor examination at this seminar. \n\n\n\n\n\n\n\nPlease note this seminar has now been granted permission to be updated to an A workshop so a great opportunity for all JKF Wadokai examiners to get their A workshop done and registered. Registration and accommodation information details within the next few weeks. Save the dates we look forward to seeing you all in Dublin in 2026\n\n\nUPDATE November 4\, 2025\nFor registration\, accommodations\, venue location and fees view link at  https://irelandwadokai.com/jkf-seminar/\nThe event is currently has 50% registration.\n\nUPDATE\n\n\n\n\n\n\n\n\nDue to the massive demand our JKF Seminar with Kohata and Sasaki Sensei’s is now fully booked.\nWe have started a waiting list in case of any cancellations.\nThank you to everyone who has registered for this seminar.\nPlease remember if you want to book accommodation on campus please do so asap as there is a limited number of rooms on campus.\nMerry Christmas everyone
URL:https://canadajkfwadokai.org/event/jkf-wadokai-masters/
LOCATION:Quebec
ATTACH;FMTTYPE=image/jpeg:https://canadajkfwadokai.org/wp-content/uploads/2025/09/Plev1SV_.jpg
END:VEVENT
END:VCALENDAR